<?xml version="1.0" encoding="UTF-8"?>
<Capabilities xmlns="http://www.opengis.net/wmts/1.0" xmlns:gml="http://www.opengis.net/gml" xmlns:ows="http://www.opengis.net/ows/1.1" xmlns:xlink="http://www.w3.org/1999/xlink" xmlns:xsi="http://www.w3.org/2001/XMLSchema-instance" xsi:schemaLocation="http://www.opengis.net/wmts/1.0 http://schemas.opengis.net/wmts/1.0/wmtsGetCapabilities_response.xsd" version="1.0.0">
   <!-- Service Identification -->
   <ows:ServiceIdentification>
      <ows:Title>SOSM tile service</ows:Title>
      <ows:ServiceType>OGC WMTS</ows:ServiceType>
      <ows:ServiceTypeVersion>1.0.0</ows:ServiceTypeVersion>
      <ows:Fees><![CDATA[© <a href='http://www.openstreetmap.org/copyright'>OpenStreetMap</a> contributors]]></ows:Fees>
      <ows:AccessConstraints><![CDATA[© <a href='http://www.openstreetmap.org/copyright'>OpenStreetMap</a> contributors]]></ows:AccessConstraints>
   </ows:ServiceIdentification>
   <!-- Operations Metadata -->
   <ows:OperationsMetadata>
      <ows:Operation name="GetCapabilities">
         <ows:DCP>
            <ows:HTTP>
               <ows:Get xlink:href="https://gist.githubusercontent.com/das-g/882334b2844d5cdc7807eb9c12b8bccb/raw/WMTSCapabilities.xml">
                  <ows:Constraint name="GetEncoding">
                     <ows:AllowedValues>
                        <ows:Value>KVP</ows:Value>
                     </ows:AllowedValues>
                  </ows:Constraint>
               </ows:Get>
            </ows:HTTP>
         </ows:DCP>
      </ows:Operation>
   </ows:OperationsMetadata>
   <Contents>
      <Layer>
         <ows:Title>SOSM standard</ows:Title>
         <ows:Identifier>SOSM standard</ows:Identifier>
         <ows:WGS84BoundingBox crs="urn:ogc:def:crs:OGC:2:84" dimensions="2">
            <ows:LowerCorner>-180 -85.051128779807</ows:LowerCorner>
            <ows:UpperCorner>180 85.051128779807</ows:UpperCorner>
         </ows:WGS84BoundingBox>
         <Style isDefault="true">
            <ows:Identifier>default</ows:Identifier>
         </Style>
         <Format>image/png</Format>
         <TileMatrixSetLink>
            <TileMatrixSet>SOSM Web Mercator</TileMatrixSet>
         </TileMatrixSetLink>
         <ResourceURL format="image/png" resourceType="tile" template="https://tile.osm.ch/switzerland/{TileMatrix}/{TileCol}/{TileRow}.png" />
      </Layer>
      <Layer>
         <ows:Title>SOSM swiss style</ows:Title>
         <ows:Identifier>SOSM swiss style</ows:Identifier>
         <ows:WGS84BoundingBox crs="urn:ogc:def:crs:OGC:2:84" dimensions="2">
            <ows:LowerCorner>-180 -85.051128779807</ows:LowerCorner>
            <ows:UpperCorner>180 85.051128779807</ows:UpperCorner>
         </ows:WGS84BoundingBox>
         <Style isDefault="true">
            <ows:Identifier>default</ows:Identifier>
         </Style>
         <Format>image/png</Format>
         <TileMatrixSetLink>
            <TileMatrixSet>SOSM Web Mercator</TileMatrixSet>
         </TileMatrixSetLink>
         <ResourceURL format="image/png" resourceType="tile" template="https://tile.osm.ch/osm-swiss-style/{TileMatrix}/{TileCol}/{TileRow}.png" />
      </Layer>
      <Layer>
         <ows:Title>SOSM CH1903</ows:Title>
         <ows:Identifier>SOSM CH1903</ows:Identifier>
         <ows:BoundingBox crs="urn:ogc:def:crs:EPSG:6.3:21781">
            <ows:LowerCorner>420000.000000 30000.000000</ows:LowerCorner>
            <ows:UpperCorner>900000.000000 350000.000000</ows:UpperCorner>
         </ows:BoundingBox>
         <Style isDefault="true">
            <ows:Identifier>default</ows:Identifier>
         </Style>
         <Format>image/png</Format>
         <InfoFormat>application/vnd.ogc.gml</InfoFormat>
         <InfoFormat>text/html</InfoFormat>
         <TileMatrixSetLink>
            <TileMatrixSet>SOSM CH1903</TileMatrixSet>
         </TileMatrixSetLink>
         <ResourceURL format="image/png" resourceType="tile" template="https://tile.osm.ch/21781/{TileMatrix}/{TileCol}/{TileRow}.png" />
      </Layer>
      <Layer>
         <ows:Title>SOSM CH1995</ows:Title>
         <ows:Identifier>SOSM CH1995</ows:Identifier>
         <ows:BoundingBox crs="urn:ogc:def:crs:EPSG:6.3:2056">
            <ows:LowerCorner>2420000.000000 1030000.000000</ows:LowerCorner>
            <ows:UpperCorner>2900000.000000 1350000.000000</ows:UpperCorner>
         </ows:BoundingBox>
         <Style isDefault="true">
            <ows:Identifier>default</ows:Identifier>
         </Style>
         <Format>image/png</Format>
         <InfoFormat>application/vnd.ogc.gml</InfoFormat>
         <InfoFormat>text/html</InfoFormat>
         <TileMatrixSetLink>
            <TileMatrixSet>SOSM CH1995</TileMatrixSet>
         </TileMatrixSetLink>
         <ResourceURL format="image/png" resourceType="tile" template="https://tile.osm.ch/2056/{TileMatrix}/{TileCol}/{TileRow}.png" />
      </Layer>
      <TileMatrixSet>
         <ows:Title>SOSM Web Mercator</ows:Title>
         <ows:Abstract>SOSM EPSG:3857 (WGS 84/Pseudo-Mercator)</ows:Abstract>
         <ows:Identifier>SOSM Web Mercator</ows:Identifier>
         <ows:SupportedCRS>urn:ogc:def:crs:EPSG::3857</ows:SupportedCRS>
         <WellKnownScaleSet>urn:ogc:def:wkss:OGC:1.0:GoogleMapsCompatible</WellKnownScaleSet>
         <TileMatrix>
            <ows:Identifier>0</ows:Identifier>
            <ScaleDenominator>559082264.02872</ScaleDenominator>
            <TopLeftCorner>-20037508.34 20037508.34</TopLeftCorner>
            <TileWidth>256</TileWidth>
            <TileHeight>256</TileHeight>
            <MatrixWidth>1</MatrixWidth>
            <MatrixHeight>1</MatrixHeight>
         </TileMatrix>
         <TileMatrix>
            <ows:Identifier>1</ows:Identifier>
            <ScaleDenominator>279541132.01436</ScaleDenominator>
            <TopLeftCorner>-20037508.34 20037508.34</TopLeftCorner>
            <TileWidth>256</TileWidth>
            <TileHeight>256</TileHeight>
            <MatrixWidth>2</MatrixWidth>
            <MatrixHeight>2</MatrixHeight>
         </TileMatrix>
         <TileMatrix>
            <ows:Identifier>2</ows:Identifier>
            <ScaleDenominator>139770566.00718</ScaleDenominator>
            <TopLeftCorner>-20037508.34 20037508.34</TopLeftCorner>
            <TileWidth>256</TileWidth>
            <TileHeight>256</TileHeight>
            <MatrixWidth>4</MatrixWidth>
            <MatrixHeight>4</MatrixHeight>
         </TileMatrix>
         <TileMatrix>
            <ows:Identifier>3</ows:Identifier>
            <ScaleDenominator>69885283.00359</ScaleDenominator>
            <TopLeftCorner>-20037508.34 20037508.34</TopLeftCorner>
            <TileWidth>256</TileWidth>
            <TileHeight>256</TileHeight>
            <MatrixWidth>8</MatrixWidth>
            <MatrixHeight>8</MatrixHeight>
         </TileMatrix>
         <TileMatrix>
            <ows:Identifier>4</ows:Identifier>
            <ScaleDenominator>34942641.501795</ScaleDenominator>
            <TopLeftCorner>-20037508.34 20037508.34</TopLeftCorner>
            <TileWidth>256</TileWidth>
            <TileHeight>256</TileHeight>
            <MatrixWidth>16</MatrixWidth>
            <MatrixHeight>16</MatrixHeight>
         </TileMatrix>
         <TileMatrix>
            <ows:Identifier>5</ows:Identifier>
            <ScaleDenominator>17471320.750897</ScaleDenominator>
            <TopLeftCorner>-20037508.34 20037508.34</TopLeftCorner>
            <TileWidth>256</TileWidth>
            <TileHeight>256</TileHeight>
            <MatrixWidth>32</MatrixWidth>
            <MatrixHeight>32</MatrixHeight>
         </TileMatrix>
         <TileMatrix>
            <ows:Identifier>6</ows:Identifier>
            <ScaleDenominator>8735660.3754487</ScaleDenominator>
            <TopLeftCorner>-20037508.34 20037508.34</TopLeftCorner>
            <TileWidth>256</TileWidth>
            <TileHeight>256</TileHeight>
            <MatrixWidth>64</MatrixWidth>
            <MatrixHeight>64</MatrixHeight>
         </TileMatrix>
         <TileMatrix>
            <ows:Identifier>7</ows:Identifier>
            <ScaleDenominator>4367830.1877244</ScaleDenominator>
            <TopLeftCorner>-20037508.34 20037508.34</TopLeftCorner>
            <TileWidth>256</TileWidth>
            <TileHeight>256</TileHeight>
            <MatrixWidth>128</MatrixWidth>
            <MatrixHeight>128</MatrixHeight>
         </TileMatrix>
         <TileMatrix>
            <ows:Identifier>8</ows:Identifier>
            <ScaleDenominator>2183915.0938622</ScaleDenominator>
            <TopLeftCorner>-20037508.34 20037508.34</TopLeftCorner>
            <TileWidth>256</TileWidth>
            <TileHeight>256</TileHeight>
            <MatrixWidth>256</MatrixWidth>
            <MatrixHeight>256</MatrixHeight>
         </TileMatrix>
         <TileMatrix>
            <ows:Identifier>9</ows:Identifier>
            <ScaleDenominator>1091957.5469311</ScaleDenominator>
            <TopLeftCorner>-20037508.34 20037508.34</TopLeftCorner>
            <TileWidth>256</TileWidth>
            <TileHeight>256</TileHeight>
            <MatrixWidth>512</MatrixWidth>
            <MatrixHeight>512</MatrixHeight>
         </TileMatrix>
         <TileMatrix>
            <ows:Identifier>10</ows:Identifier>
            <ScaleDenominator>545978.77346554</ScaleDenominator>
            <TopLeftCorner>-20037508.34 20037508.34</TopLeftCorner>
            <TileWidth>256</TileWidth>
            <TileHeight>256</TileHeight>
            <MatrixWidth>1024</MatrixWidth>
            <MatrixHeight>1024</MatrixHeight>
         </TileMatrix>
         <TileMatrix>
            <ows:Identifier>11</ows:Identifier>
            <ScaleDenominator>272989.38673277</ScaleDenominator>
            <TopLeftCorner>-20037508.34 20037508.34</TopLeftCorner>
            <TileWidth>256</TileWidth>
            <TileHeight>256</TileHeight>
            <MatrixWidth>2048</MatrixWidth>
            <MatrixHeight>2048</MatrixHeight>
         </TileMatrix>
         <TileMatrix>
            <ows:Identifier>12</ows:Identifier>
            <ScaleDenominator>136494.69336639</ScaleDenominator>
            <TopLeftCorner>-20037508.34 20037508.34</TopLeftCorner>
            <TileWidth>256</TileWidth>
            <TileHeight>256</TileHeight>
            <MatrixWidth>4096</MatrixWidth>
            <MatrixHeight>4096</MatrixHeight>
         </TileMatrix>
         <TileMatrix>
            <ows:Identifier>13</ows:Identifier>
            <ScaleDenominator>68247.346683193</ScaleDenominator>
            <TopLeftCorner>-20037508.34 20037508.34</TopLeftCorner>
            <TileWidth>256</TileWidth>
            <TileHeight>256</TileHeight>
            <MatrixWidth>8192</MatrixWidth>
            <MatrixHeight>8192</MatrixHeight>
         </TileMatrix>
         <TileMatrix>
            <ows:Identifier>14</ows:Identifier>
            <ScaleDenominator>34123.673341597</ScaleDenominator>
            <TopLeftCorner>-20037508.34 20037508.34</TopLeftCorner>
            <TileWidth>256</TileWidth>
            <TileHeight>256</TileHeight>
            <MatrixWidth>16384</MatrixWidth>
            <MatrixHeight>16384</MatrixHeight>
         </TileMatrix>
         <TileMatrix>
            <ows:Identifier>15</ows:Identifier>
            <ScaleDenominator>17061.836670798</ScaleDenominator>
            <TopLeftCorner>-20037508.34 20037508.34</TopLeftCorner>
            <TileWidth>256</TileWidth>
            <TileHeight>256</TileHeight>
            <MatrixWidth>32768</MatrixWidth>
            <MatrixHeight>32768</MatrixHeight>
         </TileMatrix>
         <TileMatrix>
            <ows:Identifier>16</ows:Identifier>
            <ScaleDenominator>8530.9183353991</ScaleDenominator>
            <TopLeftCorner>-20037508.34 20037508.34</TopLeftCorner>
            <TileWidth>256</TileWidth>
            <TileHeight>256</TileHeight>
            <MatrixWidth>65536</MatrixWidth>
            <MatrixHeight>65536</MatrixHeight>
         </TileMatrix>
         <TileMatrix>
            <ows:Identifier>17</ows:Identifier>
            <ScaleDenominator>4265.4591676996</ScaleDenominator>
            <TopLeftCorner>-20037508.34 20037508.34</TopLeftCorner>
            <TileWidth>256</TileWidth>
            <TileHeight>256</TileHeight>
            <MatrixWidth>131072</MatrixWidth>
            <MatrixHeight>131072</MatrixHeight>
         </TileMatrix>
         <TileMatrix>
            <ows:Identifier>18</ows:Identifier>
            <ScaleDenominator>2132.7295838498</ScaleDenominator>
            <TopLeftCorner>-20037508.34 20037508.34</TopLeftCorner>
            <TileWidth>256</TileWidth>
            <TileHeight>256</TileHeight>
            <MatrixWidth>262144</MatrixWidth>
            <MatrixHeight>262144</MatrixHeight>
         </TileMatrix>
         <TileMatrix>
            <ows:Identifier>19</ows:Identifier>
            <ScaleDenominator>1066.3647919249</ScaleDenominator>
            <TopLeftCorner>-20037508.34 20037508.34</TopLeftCorner>
            <TileWidth>256</TileWidth>
            <TileHeight>256</TileHeight>
            <MatrixWidth>524288</MatrixWidth>
            <MatrixHeight>524288</MatrixHeight>
         </TileMatrix>
         <TileMatrix>
            <ows:Identifier>20</ows:Identifier>
            <ScaleDenominator>533.18239596245</ScaleDenominator>
            <TopLeftCorner>-20037508.34 20037508.34</TopLeftCorner>
            <TileWidth>256</TileWidth>
            <TileHeight>256</TileHeight>
            <MatrixWidth>1048576</MatrixWidth>
            <MatrixHeight>1048576</MatrixHeight>
         </TileMatrix>
         <TileMatrix>
            <ows:Identifier>21</ows:Identifier>
            <ScaleDenominator>266.591197981225</ScaleDenominator>
            <TopLeftCorner>-20037508.34 20037508.34</TopLeftCorner>
            <TileWidth>256</TileWidth>
            <TileHeight>256</TileHeight>
            <MatrixWidth>2097152</MatrixWidth>
            <MatrixHeight>2097152</MatrixHeight>
         </TileMatrix>
      </TileMatrixSet>
      <TileMatrixSet>
         <ows:Identifier>SOSM CH1903</ows:Identifier>
         <ows:SupportedCRS>urn:ogc:def:crs:EPSG:6.3:21781</ows:SupportedCRS>
         <TileMatrix>
            <ows:Identifier>0</ows:Identifier>
            <ScaleDenominator>559082264.02872</ScaleDenominator>
            <TopLeftCorner>-20037508.34 20037508.34</TopLeftCorner>
            <TileWidth>256</TileWidth>
            <TileHeight>256</TileHeight>
            <MatrixWidth>1</MatrixWidth>
            <MatrixHeight>1</MatrixHeight>
         </TileMatrix>
         <TileMatrix>
            <ows:Identifier>1</ows:Identifier>
            <ScaleDenominator>279541132.01436</ScaleDenominator>
            <TopLeftCorner>-20037508.34 20037508.34</TopLeftCorner>
            <TileWidth>256</TileWidth>
            <TileHeight>256</TileHeight>
            <MatrixWidth>2</MatrixWidth>
            <MatrixHeight>2</MatrixHeight>
         </TileMatrix>
         <TileMatrix>
            <ows:Identifier>2</ows:Identifier>
            <ScaleDenominator>139770566.00718</ScaleDenominator>
            <TopLeftCorner>-20037508.34 20037508.34</TopLeftCorner>
            <TileWidth>256</TileWidth>
            <TileHeight>256</TileHeight>
            <MatrixWidth>4</MatrixWidth>
            <MatrixHeight>4</MatrixHeight>
         </TileMatrix>
         <TileMatrix>
            <ows:Identifier>3</ows:Identifier>
            <ScaleDenominator>69885283.00359</ScaleDenominator>
            <TopLeftCorner>-20037508.34 20037508.34</TopLeftCorner>
            <TileWidth>256</TileWidth>
            <TileHeight>256</TileHeight>
            <MatrixWidth>8</MatrixWidth>
            <MatrixHeight>8</MatrixHeight>
         </TileMatrix>
         <TileMatrix>
            <ows:Identifier>4</ows:Identifier>
            <ScaleDenominator>34942641.501795</ScaleDenominator>
            <TopLeftCorner>-20037508.34 20037508.34</TopLeftCorner>
            <TileWidth>256</TileWidth>
            <TileHeight>256</TileHeight>
            <MatrixWidth>16</MatrixWidth>
            <MatrixHeight>16</MatrixHeight>
         </TileMatrix>
         <TileMatrix>
            <ows:Identifier>5</ows:Identifier>
            <ScaleDenominator>17471320.750897</ScaleDenominator>
            <TopLeftCorner>-20037508.34 20037508.34</TopLeftCorner>
            <TileWidth>256</TileWidth>
            <TileHeight>256</TileHeight>
            <MatrixWidth>32</MatrixWidth>
            <MatrixHeight>32</MatrixHeight>
         </TileMatrix>
         <TileMatrix>
            <ows:Identifier>6</ows:Identifier>
            <ScaleDenominator>8735660.3754487</ScaleDenominator>
            <TopLeftCorner>-20037508.34 20037508.34</TopLeftCorner>
            <TileWidth>256</TileWidth>
            <TileHeight>256</TileHeight>
            <MatrixWidth>64</MatrixWidth>
            <MatrixHeight>64</MatrixHeight>
         </TileMatrix>
         <TileMatrix>
            <ows:Identifier>7</ows:Identifier>
            <ScaleDenominator>4367830.1877244</ScaleDenominator>
            <TopLeftCorner>-20037508.34 20037508.34</TopLeftCorner>
            <TileWidth>256</TileWidth>
            <TileHeight>256</TileHeight>
            <MatrixWidth>128</MatrixWidth>
            <MatrixHeight>128</MatrixHeight>
         </TileMatrix>
         <TileMatrix>
            <ows:Identifier>8</ows:Identifier>
            <ScaleDenominator>2183915.0938622</ScaleDenominator>
            <TopLeftCorner>-20037508.34 20037508.34</TopLeftCorner>
            <TileWidth>256</TileWidth>
            <TileHeight>256</TileHeight>
            <MatrixWidth>256</MatrixWidth>
            <MatrixHeight>256</MatrixHeight>
         </TileMatrix>
         <TileMatrix>
            <ows:Identifier>9</ows:Identifier>
            <ScaleDenominator>1091957.5469311</ScaleDenominator>
            <TopLeftCorner>-20037508.34 20037508.34</TopLeftCorner>
            <TileWidth>256</TileWidth>
            <TileHeight>256</TileHeight>
            <MatrixWidth>512</MatrixWidth>
            <MatrixHeight>512</MatrixHeight>
         </TileMatrix>
         <TileMatrix>
            <ows:Identifier>10</ows:Identifier>
            <ScaleDenominator>545978.77346554</ScaleDenominator>
            <TopLeftCorner>-20037508.34 20037508.34</TopLeftCorner>
            <TileWidth>256</TileWidth>
            <TileHeight>256</TileHeight>
            <MatrixWidth>1024</MatrixWidth>
            <MatrixHeight>1024</MatrixHeight>
         </TileMatrix>
         <TileMatrix>
            <ows:Identifier>11</ows:Identifier>
            <ScaleDenominator>272989.38673277</ScaleDenominator>
            <TopLeftCorner>-20037508.34 20037508.34</TopLeftCorner>
            <TileWidth>256</TileWidth>
            <TileHeight>256</TileHeight>
            <MatrixWidth>2048</MatrixWidth>
            <MatrixHeight>2048</MatrixHeight>
         </TileMatrix>
         <TileMatrix>
            <ows:Identifier>12</ows:Identifier>
            <ScaleDenominator>136494.69336639</ScaleDenominator>
            <TopLeftCorner>-20037508.34 20037508.34</TopLeftCorner>
            <TileWidth>256</TileWidth>
            <TileHeight>256</TileHeight>
            <MatrixWidth>4096</MatrixWidth>
            <MatrixHeight>4096</MatrixHeight>
         </TileMatrix>
         <TileMatrix>
            <ows:Identifier>13</ows:Identifier>
            <ScaleDenominator>68247.346683193</ScaleDenominator>
            <TopLeftCorner>-20037508.34 20037508.34</TopLeftCorner>
            <TileWidth>256</TileWidth>
            <TileHeight>256</TileHeight>
            <MatrixWidth>8192</MatrixWidth>
            <MatrixHeight>8192</MatrixHeight>
         </TileMatrix>
         <TileMatrix>
            <ows:Identifier>14</ows:Identifier>
            <ScaleDenominator>34123.673341597</ScaleDenominator>
            <TopLeftCorner>-20037508.34 20037508.34</TopLeftCorner>
            <TileWidth>256</TileWidth>
            <TileHeight>256</TileHeight>
            <MatrixWidth>16384</MatrixWidth>
            <MatrixHeight>16384</MatrixHeight>
         </TileMatrix>
         <TileMatrix>
            <ows:Identifier>15</ows:Identifier>
            <ScaleDenominator>17061.836670798</ScaleDenominator>
            <TopLeftCorner>-20037508.34 20037508.34</TopLeftCorner>
            <TileWidth>256</TileWidth>
            <TileHeight>256</TileHeight>
            <MatrixWidth>32768</MatrixWidth>
            <MatrixHeight>32768</MatrixHeight>
         </TileMatrix>
         <TileMatrix>
            <ows:Identifier>16</ows:Identifier>
            <ScaleDenominator>8530.9183353991</ScaleDenominator>
            <TopLeftCorner>-20037508.34 20037508.34</TopLeftCorner>
            <TileWidth>256</TileWidth>
            <TileHeight>256</TileHeight>
            <MatrixWidth>65536</MatrixWidth>
            <MatrixHeight>65536</MatrixHeight>
         </TileMatrix>
         <TileMatrix>
            <ows:Identifier>17</ows:Identifier>
            <ScaleDenominator>4265.4591676996</ScaleDenominator>
            <TopLeftCorner>-20037508.34 20037508.34</TopLeftCorner>
            <TileWidth>256</TileWidth>
            <TileHeight>256</TileHeight>
            <MatrixWidth>131072</MatrixWidth>
            <MatrixHeight>131072</MatrixHeight>
         </TileMatrix>
         <TileMatrix>
            <ows:Identifier>18</ows:Identifier>
            <ScaleDenominator>2132.7295838498</ScaleDenominator>
            <TopLeftCorner>-20037508.34 20037508.34</TopLeftCorner>
            <TileWidth>256</TileWidth>
            <TileHeight>256</TileHeight>
            <MatrixWidth>262144</MatrixWidth>
            <MatrixHeight>262144</MatrixHeight>
         </TileMatrix>
         <TileMatrix>
            <ows:Identifier>19</ows:Identifier>
            <ScaleDenominator>1066.3647919249</ScaleDenominator>
            <TopLeftCorner>-20037508.34 20037508.34</TopLeftCorner>
            <TileWidth>256</TileWidth>
            <TileHeight>256</TileHeight>
            <MatrixWidth>524288</MatrixWidth>
            <MatrixHeight>524288</MatrixHeight>
         </TileMatrix>
         <TileMatrix>
            <ows:Identifier>20</ows:Identifier>
            <ScaleDenominator>533.18239596245</ScaleDenominator>
            <TopLeftCorner>-20037508.34 20037508.34</TopLeftCorner>
            <TileWidth>256</TileWidth>
            <TileHeight>256</TileHeight>
            <MatrixWidth>1048576</MatrixWidth>
            <MatrixHeight>1048576</MatrixHeight>
         </TileMatrix>
         <TileMatrix>
            <ows:Identifier>21</ows:Identifier>
            <ScaleDenominator>266.591197981225</ScaleDenominator>
            <TopLeftCorner>-20037508.34 20037508.34</TopLeftCorner>
            <TileWidth>256</TileWidth>
            <TileHeight>256</TileHeight>
            <MatrixWidth>2097152</MatrixWidth>
            <MatrixHeight>2097152</MatrixHeight>
         </TileMatrix>
      </TileMatrixSet>
      <TileMatrixSet>
         <ows:Identifier>SOSM CH1995</ows:Identifier>
         <ows:SupportedCRS>urn:ogc:def:crs:EPSG:6.3:2056</ows:SupportedCRS>
         <TileMatrix>
            <ows:Identifier>0</ows:Identifier>
            <ScaleDenominator>559082264.02872</ScaleDenominator>
            <TopLeftCorner>-20037508.34 20037508.34</TopLeftCorner>
            <TileWidth>256</TileWidth>
            <TileHeight>256</TileHeight>
            <MatrixWidth>1</MatrixWidth>
            <MatrixHeight>1</MatrixHeight>
         </TileMatrix>
         <TileMatrix>
            <ows:Identifier>1</ows:Identifier>
            <ScaleDenominator>279541132.01436</ScaleDenominator>
            <TopLeftCorner>-20037508.34 20037508.34</TopLeftCorner>
            <TileWidth>256</TileWidth>
            <TileHeight>256</TileHeight>
            <MatrixWidth>2</MatrixWidth>
            <MatrixHeight>2</MatrixHeight>
         </TileMatrix>
         <TileMatrix>
            <ows:Identifier>2</ows:Identifier>
            <ScaleDenominator>139770566.00718</ScaleDenominator>
            <TopLeftCorner>-20037508.34 20037508.34</TopLeftCorner>
